BEGIN:VCALENDAR
VERSION:2.0
PRODID:-//Tukios.com/
BEGIN:VEVENT
UID:fd55c02e-5a44-4e05-9770-d98ce0bd1304@www.divinemercyfuneralhome.com
DTSTAMP:20260424T204059Z
DTSTART:20260502T191500Z
DTEND:20260502T201500Z
SUMMARY:Committal
DESCRIPTION:
URL:https://www.divinemercyfuneralhome.com/obituaries/diane-barth
LOCATION: 3500 Lake Ave  Fort Wayne IN 46805
GEO:41.090014;-85.095951
END:VEVENT
END:VCALENDAR