BEGIN:VCALENDAR
VERSION:2.0
PRODID:-//Tukios.com/
BEGIN:VEVENT
UID:aa4fdc9f-0946-489e-a5db-3e554d907d6f@www.divinemercyfuneralhome.com
DTSTAMP:20260424T204059Z
DTSTART:20260508T133000Z
DTEND:20260508T143000Z
SUMMARY:Visitation
DESCRIPTION:
URL:https://www.divinemercyfuneralhome.com/obituaries/george-kessen
LOCATION: 2155 Randallia Drive  Fort Wayne IN 46805
GEO:41.0956956;-85.1120474
END:VEVENT
END:VCALENDAR