BEGIN:VCALENDAR
VERSION:2.0
PRODID:-//Tukios.com/
BEGIN:VEVENT
UID:c74704eb-d5ad-4ca2-a799-4af939a526c7@www.divinemercyfuneralhome.com
DTSTAMP:20260424T204322Z
DTSTART:20260508T143000Z
DTEND:20260508T153000Z
SUMMARY:Mass
DESCRIPTION:
URL:https://www.divinemercyfuneralhome.com/obituaries/george-kessen
LOCATION: 2155 Randallia Drive  Fort Wayne IN 46805
GEO:41.0956956;-85.1120474
END:VEVENT
END:VCALENDAR