BEGIN:VCALENDAR
VERSION:2.0
PRODID:-//Tukios.com/
BEGIN:VEVENT
UID:6b1c2431-acbe-499c-a5c1-ee7d6fda3ff1@www.divinemercyfuneralhome.com
DTSTAMP:20260425T185806Z
DTSTART:20260428T190000Z
DTEND:20260428T230000Z
SUMMARY:Visitation
DESCRIPTION:
URL:https://www.divinemercyfuneralhome.com/obituaries/joan-colligan
LOCATION: 1986 W Cedar Canyons Rd  Huntertown IN 46748
GEO:41.2357416;-85.1692577
END:VEVENT
END:VCALENDAR