BEGIN:VCALENDAR
VERSION:2.0
PRODID:-//Tukios.com/
BEGIN:VEVENT
UID:79ae0a1c-9fc2-4185-a6dd-8f7b0c34a03d@www.divinemercyfuneralhome.com
DTSTAMP:20260425T190046Z
DTSTART:20260428T183000Z
DTEND:20260428T190000Z
SUMMARY:Rosary
DESCRIPTION:
URL:https://www.divinemercyfuneralhome.com/obituaries/joan-colligan
LOCATION: 1986 W Cedar Canyons Rd  Huntertown IN 46748
GEO:41.2357416;-85.1692577
END:VEVENT
END:VCALENDAR