BEGIN:VCALENDAR
VERSION:2.0
PRODID:-//Tukios.com/
BEGIN:VEVENT
UID:fe649c62-4f86-425b-8ca4-6ea3098e65be@www.divinemercyfuneralhome.com
DTSTAMP:20260425T190228Z
DTSTART:20260429T140000Z
DTEND:20260429T150000Z
SUMMARY:Visitation
DESCRIPTION:
URL:https://www.divinemercyfuneralhome.com/obituaries/joan-colligan
LOCATION: 1502 E Wallen Rd  Fort Wayne IN 46825
GEO:41.1617202;-85.1225772
END:VEVENT
END:VCALENDAR