BEGIN:VCALENDAR
VERSION:2.0
PRODID:-//Tukios.com/
BEGIN:VEVENT
UID:adfd3472-d45e-40c0-af96-5464873e4208@www.divinemercyfuneralhome.com
DTSTAMP:20260425T185919Z
DTSTART:20260429T150000Z
DTEND:20260429T160000Z
SUMMARY:Mass
DESCRIPTION:
URL:https://www.divinemercyfuneralhome.com/obituaries/joan-colligan
LOCATION: 1502 E Wallen Rd  Fort Wayne IN 46825
GEO:41.1617202;-85.1225772
END:VEVENT
END:VCALENDAR