BEGIN:VCALENDAR
VERSION:2.0
PRODID:-//Tukios.com/
BEGIN:VEVENT
UID:26b472c1-04d4-4f87-b711-8e96886e29e0@www.divinemercyfuneralhome.com
DTSTAMP:20260425T185743Z
DTSTART:20260429T163000Z
DTEND:20260429T170000Z
SUMMARY:Burial
DESCRIPTION:
URL:https://www.divinemercyfuneralhome.com/obituaries/joan-colligan
LOCATION: 3500 Lake Ave  Fort Wayne IN 46805
GEO:41.090014;-85.095951
END:VEVENT
END:VCALENDAR