BEGIN:VCALENDAR
VERSION:2.0
PRODID:-//Tukios.com/
BEGIN:VEVENT
UID:ddec796a-e3dd-421b-a520-959161ce0bba@www.divinemercyfuneralhome.com
DTSTAMP:20260424T204219Z
DTSTART:20260620T160000Z
DTEND:20260620T170000Z
SUMMARY:Funeral Mass
DESCRIPTION:
URL:https://www.divinemercyfuneralhome.com/obituaries/joan-huber
LOCATION: 15535 Lincoln Highway East  New Haven IN 46774
GEO:41.0507739;-84.9377027
END:VEVENT
END:VCALENDAR