BEGIN:VCALENDAR
VERSION:2.0
PRODID:-//Tukios.com/
BEGIN:VEVENT
UID:7fd7b262-79e3-470f-a861-02bf4b515140@www.divinemercyfuneralhome.com
DTSTAMP:20260424T203350Z
DTSTART:20260620T153000Z
DTEND:20260620T160000Z
SUMMARY:Holy Rosary
DESCRIPTION:
URL:https://www.divinemercyfuneralhome.com/obituaries/joan-huber
LOCATION: 15535 Lincoln Highway East  New Haven IN 46774
GEO:41.0507739;-84.9377027
END:VEVENT
END:VCALENDAR