BEGIN:VCALENDAR
VERSION:2.0
PRODID:-//Tukios.com/
BEGIN:VEVENT
UID:3ee92951-b672-4b83-8cfc-886e5ade4070@www.divinemercyfuneralhome.com
DTSTAMP:20260426T000517Z
DTSTART:20260430T200000Z
DTEND:20260501T000000Z
SUMMARY:Visitation
DESCRIPTION:
URL:https://www.divinemercyfuneralhome.com/obituaries/mason-tippmann
LOCATION: 1986 W Cedar Canyons Rd  Huntertown IN 46748
GEO:41.2357416;-85.1692577
END:VEVENT
END:VCALENDAR