BEGIN:VCALENDAR
VERSION:2.0
PRODID:-//Tukios.com/
BEGIN:VEVENT
UID:92f32ea3-846a-4313-afcb-4e5240b097e6@www.divinemercyfuneralhome.com
DTSTAMP:20260426T000353Z
DTSTART:20260430T193000Z
DTEND:20260430T200000Z
SUMMARY:Rosary
DESCRIPTION:
URL:https://www.divinemercyfuneralhome.com/obituaries/mason-tippmann
LOCATION: 1986 W Cedar Canyons Rd  Huntertown IN 46748
GEO:41.2357416;-85.1692577
END:VEVENT
END:VCALENDAR