BEGIN:VCALENDAR
VERSION:2.0
PRODID:-//Tukios.com/
BEGIN:VEVENT
UID:883d329e-3929-4d8e-acd6-a019533c87a0@www.divinemercyfuneralhome.com
DTSTAMP:20260426T000517Z
DTSTART:20260501T150000Z
DTEND:20260501T160000Z
SUMMARY:Mass
DESCRIPTION:
URL:https://www.divinemercyfuneralhome.com/obituaries/mason-tippmann
LOCATION: 4916 Trier Road  Fort Wayne IN 46815
GEO:41.1121924;-85.0777457
END:VEVENT
END:VCALENDAR