BEGIN:VCALENDAR
VERSION:2.0
PRODID:-//Tukios.com/
BEGIN:VEVENT
UID:6555c177-47e9-4ef2-a21e-c83d926f0c02@www.divinemercyfuneralhome.com
DTSTAMP:20260426T000353Z
DTSTART:20260501T163000Z
DTEND:20260501T170000Z
SUMMARY:Burial
DESCRIPTION:
URL:https://www.divinemercyfuneralhome.com/obituaries/mason-tippmann
LOCATION: 3500 Lake Avenue  Fort Wayne IN 46805
GEO:41.0895696;-85.0970916
END:VEVENT
END:VCALENDAR