BEGIN:VCALENDAR
VERSION:2.0
PRODID:-//Tukios.com/
BEGIN:VEVENT
UID:5af9efe4-19f3-4b4a-80e6-a301ab7a4bec@www.divinemercyfuneralhome.com
DTSTAMP:20260424T203645Z
DTSTART:20260426T170000Z
DTEND:20260426T200000Z
SUMMARY:Celebration of Life
DESCRIPTION:
URL:https://www.divinemercyfuneralhome.com/obituaries/paul-shoaf
LOCATION:O’Sullivan’s Italian Pub 1808 West Main Street  Fort Wayne 
	IN 46808
GEO:41.0787447;-85.1655753
END:VEVENT
END:VCALENDAR