BEGIN:VCALENDAR
VERSION:2.0
PRODID:-//Tukios.com/
BEGIN:VEVENT
UID:17530d51-4235-4742-ae13-d123159884c0@www.divinemercyfuneralhome.com
DTSTAMP:20260424T204616Z
DTSTART:20260502T140000Z
DTEND:20260502T160000Z
SUMMARY:Visitation
DESCRIPTION:
URL:https://www.divinemercyfuneralhome.com/obituaries/rick-barrand
LOCATION: 3500 Lake Ave  Fort Wayne IN 46805
GEO:41.090014;-85.095951
END:VEVENT
END:VCALENDAR