BEGIN:VCALENDAR
VERSION:2.0
PRODID:-//Tukios.com/
BEGIN:VEVENT
UID:28df2508-4e6b-4722-b6ff-6453f0ae4870@www.divinemercyfuneralhome.com
DTSTAMP:20260424T204100Z
DTSTART:20260502T160000Z
DTEND:20260502T170000Z
SUMMARY:Funeral Service
DESCRIPTION:
URL:https://www.divinemercyfuneralhome.com/obituaries/rick-barrand
LOCATION: 3500 Lake Ave  Fort Wayne IN 46805
GEO:41.090014;-85.095951
END:VEVENT
END:VCALENDAR