BEGIN:VCALENDAR
VERSION:2.0
PRODID:-//Tukios.com/
BEGIN:VEVENT
UID:d28e2f8c-f2fd-434a-accb-b810ff8e8a15@www.divinemercyfuneralhome.com
DTSTAMP:20260424T204714Z
DTSTART:20260502T170000Z
DTEND:20260502T180000Z
SUMMARY:Committal
DESCRIPTION:
URL:https://www.divinemercyfuneralhome.com/obituaries/rick-barrand
LOCATION: 3500 Lake Ave.  Fort Wayne IN 46805
GEO:41.090014;-85.095951
END:VEVENT
END:VCALENDAR