BEGIN:VCALENDAR
VERSION:2.0
PRODID:-//Tukios.com/
BEGIN:VEVENT
UID:bdbc2c94-93de-40d1-957a-77b328920db8@www.divinemercyfuneralhome.com
DTSTAMP:20260424T204304Z
DTSTART:20260427T220000Z
DTEND:20260427T230000Z
SUMMARY:Funeral Service
DESCRIPTION:
URL:https://www.divinemercyfuneralhome.com/obituaries/robert-lanham
LOCATION:Divine Mercy Funeral Home 3500 Lake Ave  Fort Wayne IN 46805
GEO:41.090014;-85.095951
END:VEVENT
END:VCALENDAR